BEGIN:VCALENDAR
VERSION:2.0
BEGIN:VEVENT
URL:https://www.bcbsal.org/sales/web/individuals/
DTSTART:20241215T000000
DTEND:20250116T000000
SUMMARY:2025 health coverage: Enrollment begins today!
DESCRIPTION:See what you could save with a tax credit and sign up for 2025 health coverage from Blue Cross and Blue Shield of Alabama now. https://www.bcbsal.org/sales/web/individuals/
LOCATION:
END:VEVENT
END:VCALENDAR
